BEGIN:VCALENDAR
VERSION:2.0
PRODID:Swell Auction - Coastal Living in a Beautiful Block
BEGIN:VTIMEZONE
TZID:Australia/Melbourne
BEGIN:STANDARD
DTSTART:20260701T070000
TZOFFSETTO:+1000
TZNAME:GMT+10
END:STANDARD
END:VTIMEZONE
BEGIN:VEVENT
UID:69ebc7de004f7
DTSTART;TZID=Australia/Melbourne:20260701T070000
PRIORITY:1
SEQUENCE:0
TRANSP:OPAQUE
DTEND;TZID=Australia/Melbourne:20260701T080000
LOCATION:3/11 Jenkins Street Collaroy NSW
ORGANIZER;CN="Belinda Brown":mailto:belinda@evolvecloud.agentboxcrm.com.au
SUMMARY;LANGUAGE=en-au:Swell Auction - 3/11 Jenkins Street Collaroy NSW
CLASS:PUBLIC
DESCRIPTION:Auction: 3/11 Jenkins Street Collaroy NSW, 1st Jul 07:00AM
 Click the link for full listing information:
 https://portfolio.websites.reapit.com.au/swell/sale/nsw/northern-beaches/collaroy/residential/unit/6683375
DTSTAMP:20260424T194326
END:VEVENT
END:VCALENDAR