BEGIN:VCALENDAR
VERSION:2.0
PRODID:Reef Open for Inspection - Spacious One Bedroom Unit with Separate
 Study/Office Room
BEGIN:VTIMEZONE
TZID:Australia/Melbourne
BEGIN:STANDARD
DTSTART:20260805T120000
TZOFFSETTO:+1000
TZNAME:GMT+10
END:STANDARD
END:VTIMEZONE
BEGIN:VEVENT
UID:69ebdb5153e76
DTSTART;TZID=Australia/Melbourne:20260805T120000
SEQUENCE:0
TRANSP:OPAQUE
DTEND;TZID=Australia/Melbourne:20260805T140000
LOCATION:10/333 Condamine Street Manly Vale NSW
SUMMARY:Reef Open for Inspection - 10/333 Condamine Street Manly Vale NSW
CLASS:PUBLIC
DESCRIPTION:Open for Inspection: 10/333 Condamine Street Manly Vale NSW
 Wednesday 5th Aug 12:00pm - 14:00pm Click the link for full listing
 information: https://portfolio.websites.reapit.com.au/reef/6683360
DTSTAMP:20260424T210625
END:VEVENT
END:VCALENDAR