BEGIN:VCALENDAR
VERSION:2.0
PRODID:Reef Open for Inspection - Top Floor Retreat In A Boutique Block In
 An Intimate Cul-De-Sac
BEGIN:VTIMEZONE
TZID:Australia/Melbourne
BEGIN:STANDARD
DTSTART:20270806T110000
TZOFFSETTO:+1000
TZNAME:GMT+10
END:STANDARD
END:VTIMEZONE
BEGIN:VEVENT
UID:69ebef5dde7b3
DTSTART;TZID=Australia/Melbourne:20270806T110000
SEQUENCE:0
TRANSP:OPAQUE
DTEND;TZID=Australia/Melbourne:20270806T130000
LOCATION:Level 3/17/5 Carousel Close Cromer NSW
SUMMARY:Reef Open for Inspection - Level 3/17/5 Carousel Close Cromer NSW
CLASS:PUBLIC
DESCRIPTION:Open for Inspection: Level 3/17/5 Carousel Close Cromer NSW
 Friday 6th Aug 11:00am - 13:00pm Click the link for full listing
 information: https://portfolio.websites.reapit.com.au/reef/6683359
DTSTAMP:20260424T223157
END:VEVENT
END:VCALENDAR