BEGIN:VCALENDAR
VERSION:2.0
PRODID:Reef Open for Inspection - Newly Renovated Interiors, Flexible Dual
 Living, Stunning Outlooks
BEGIN:VTIMEZONE
TZID:Australia/Melbourne
BEGIN:STANDARD
DTSTART:20260906T090000
TZOFFSETTO:+1000
TZNAME:GMT+10
END:STANDARD
END:VTIMEZONE
BEGIN:VEVENT
UID:69ebdb7a97107
DTSTART;TZID=Australia/Melbourne:20260906T090000
SEQUENCE:0
TRANSP:OPAQUE
DTEND;TZID=Australia/Melbourne:20260906T110000
LOCATION:13 Paling Place Beacon Hill NSW
SUMMARY:Reef Open for Inspection - 13 Paling Place Beacon Hill NSW
CLASS:PUBLIC
DESCRIPTION:Open for Inspection: 13 Paling Place Beacon Hill NSW Sunday
 6th Sep 09:00am - 11:00am Click the link for full listing information:
 https://portfolio.websites.reapit.com.au/reef/6683357
DTSTAMP:20260424T210706
END:VEVENT
END:VCALENDAR