BEGIN:VCALENDAR
VERSION:2.0
PRODID:Reef Open for Inspection - Spacious One Bedroom Unit with Separate
 Study/Office Room
BEGIN:VTIMEZONE
TZID:Australia/Melbourne
BEGIN:STANDARD
DTSTART:20260803T140000
TZOFFSETTO:+1000
TZNAME:GMT+10
END:STANDARD
END:VTIMEZONE
BEGIN:VEVENT
UID:69ebdb6512959
DTSTART;TZID=Australia/Melbourne:20260803T140000
SEQUENCE:0
TRANSP:OPAQUE
DTEND;TZID=Australia/Melbourne:20260803T160000
LOCATION:7/333 Condamine Street Manly Vale NSW
SUMMARY:Reef Open for Inspection - 7/333 Condamine Street Manly Vale NSW
CLASS:PUBLIC
DESCRIPTION:Open for Inspection: 7/333 Condamine Street Manly Vale NSW
 Monday 3rd Aug 14:00pm - 16:00pm Click the link for full listing
 information: https://portfolio.websites.reapit.com.au/reef/6672034
DTSTAMP:20260424T210645
END:VEVENT
END:VCALENDAR