BEGIN:VCALENDAR
VERSION:2.0
PRODID:Platinum Real Estate Auction - Newly Renovated Interiors, Flexible
 Dual Living, Stunning Outlooks
BEGIN:VTIMEZONE
TZID:Australia/Melbourne
BEGIN:STANDARD
DTSTART:20261028T180000
TZOFFSETTO:+1000
TZNAME:GMT+10
END:STANDARD
END:VTIMEZONE
BEGIN:VEVENT
UID:69ebec4b6a321
DTSTART;TZID=Australia/Melbourne:20261028T180000
PRIORITY:1
SEQUENCE:0
TRANSP:OPAQUE
DTEND;TZID=Australia/Melbourne:20261028T190000
LOCATION:14 Paling Place Beacon Hill NSW
ORGANIZER;CN="Alicia Thomas":mailto:alicia@evolvecloud.agentboxcrm.com.au
SUMMARY;LANGUAGE=en-au:Platinum Real Estate Auction - 14 Paling Place
 Beacon Hill NSW
CLASS:PUBLIC
DESCRIPTION:Auction: 14 Paling Place Beacon Hill NSW, 28th Oct 06:00PM
 Click the link for full listing information:
 https://portfolio.websites.reapit.com.au/platinum/sale/nsw/northern-beaches/beacon-hill/residential/house/6683377
DTSTAMP:20260424T221851
END:VEVENT
END:VCALENDAR