BEGIN:VCALENDAR
VERSION:2.0
PRODID:Headland Open for Inspection - Architecturally Designed Town Home
 Holding the Best Position In The Sunland Estate
BEGIN:VTIMEZONE
TZID:Australia/Melbourne
BEGIN:STANDARD
DTSTART:20261028T170000
TZOFFSETTO:+1000
TZNAME:GMT+10
END:STANDARD
END:VTIMEZONE
BEGIN:VEVENT
UID:69ebda3aa6b3d
DTSTART;TZID=Australia/Melbourne:20261028T170000
SEQUENCE:0
TRANSP:OPAQUE
DTEND;TZID=Australia/Melbourne:19700101T000000
LOCATION:7 Hastings Street Warriewood NSW
SUMMARY:Headland Open for Inspection - 7 Hastings Street Warriewood NSW
CLASS:PUBLIC
DESCRIPTION:Open for Inspection: 7 Hastings Street Warriewood NSW
 Wednesday 28th Oct 17:00pm - 00:00am Click the link for full listing
 information:
 https://portfolio.websites.reapit.com.au/headland/sale/nsw/northern-beaches/warriewood/residential/townhouse/6683354
DTSTAMP:20260424T210146
END:VEVENT
END:VCALENDAR