BEGIN:VCALENDAR
VERSION:2.0
PRODID:Headland Open for Inspection - Contemporary ‘Lighthouse’ Living
 In A Cosmopolitan Beachside Setting
BEGIN:VTIMEZONE
TZID:Australia/Melbourne
BEGIN:STANDARD
DTSTART:20261028T170000
TZOFFSETTO:+1000
TZNAME:GMT+10
END:STANDARD
END:VTIMEZONE
BEGIN:VEVENT
UID:69ebda30e9de8
DTSTART;TZID=Australia/Melbourne:20261028T170000
SEQUENCE:0
TRANSP:OPAQUE
DTEND;TZID=Australia/Melbourne:19700101T000000
LOCATION:1214/15 Howard Avenue Dee Why NSW
SUMMARY:Headland Open for Inspection - 1214/15 Howard Avenue Dee Why NSW
CLASS:PUBLIC
DESCRIPTION:Open for Inspection: 1214/15 Howard Avenue Dee Why NSW
 Wednesday 28th Oct 17:00pm - 00:00am Click the link for full listing
 information:
 https://portfolio.websites.reapit.com.au/headland/sale/nsw/northern-beaches/dee-why/residential/unit/6683356
DTSTAMP:20260424T210136
END:VEVENT
END:VCALENDAR