BEGIN:VCALENDAR
VERSION:2.0
PRODID:Headland Open for Inspection - Top Floor Retreat In A Boutique
 Block In An Intimate Cul-De-Sac
BEGIN:VTIMEZONE
TZID:Australia/Melbourne
BEGIN:STANDARD
DTSTART:20260510T041500
TZOFFSETTO:+1000
TZNAME:GMT+10
END:STANDARD
END:VTIMEZONE
BEGIN:VEVENT
UID:69ebc7dddf554
DTSTART;TZID=Australia/Melbourne:20260510T041500
SEQUENCE:0
TRANSP:OPAQUE
DTEND;TZID=Australia/Melbourne:19700101T000000
LOCATION:Level 3/17/5 Carousel Close Cromer NSW
SUMMARY:Headland Open for Inspection - Level 3/17/5 Carousel Close Cromer
 NSW
CLASS:PUBLIC
DESCRIPTION:Open for Inspection: Level 3/17/5 Carousel Close Cromer NSW
 Sunday 10th May 04:15am - 00:00am Click the link for full listing
 information:
 https://portfolio.websites.reapit.com.au/headland/sale/nsw/northern-beaches/cromer/residential/unit/6683359
DTSTAMP:20260424T194325
END:VEVENT
END:VCALENDAR