BEGIN:VCALENDAR
VERSION:2.0
PRODID:Headland Open for Inspection - Coastal Living in a Beautiful Block
BEGIN:VTIMEZONE
TZID:Australia/Melbourne
BEGIN:STANDARD
DTSTART:20260701T070000
TZOFFSETTO:+1000
TZNAME:GMT+10
END:STANDARD
END:VTIMEZONE
BEGIN:VEVENT
UID:69ebc7ddc7a1e
DTSTART;TZID=Australia/Melbourne:20260701T070000
SEQUENCE:0
TRANSP:OPAQUE
DTEND;TZID=Australia/Melbourne:19700101T000000
LOCATION:3/11 Jenkins Street Collaroy NSW
SUMMARY:Headland Open for Inspection - 3/11 Jenkins Street Collaroy NSW
CLASS:PUBLIC
DESCRIPTION:Open for Inspection: 3/11 Jenkins Street Collaroy NSW
 Wednesday 1st Jul 07:00am - 00:00am Click the link for full listing
 information:
 https://portfolio.websites.reapit.com.au/headland/sale/nsw/northern-beaches/collaroy/residential/unit/6683375
DTSTAMP:20260424T194325
END:VEVENT
END:VCALENDAR