BEGIN:VCALENDAR
VERSION:2.0
PRODID:Headland Open for Inspection - Newly Renovated Interiors, Flexible
 Dual Living, Stunning Outlooks
BEGIN:VTIMEZONE
TZID:Australia/Melbourne
BEGIN:STANDARD
DTSTART:20261028T180000
TZOFFSETTO:+1000
TZNAME:GMT+10
END:STANDARD
END:VTIMEZONE
BEGIN:VEVENT
UID:69ebda303bcfc
DTSTART;TZID=Australia/Melbourne:20261028T180000
SEQUENCE:0
TRANSP:OPAQUE
DTEND;TZID=Australia/Melbourne:19700101T000000
LOCATION:14 Paling Place Beacon Hill NSW
SUMMARY:Headland Open for Inspection - 14 Paling Place Beacon Hill NSW
CLASS:PUBLIC
DESCRIPTION:Open for Inspection: 14 Paling Place Beacon Hill NSW Wednesday
 28th Oct 18:00pm - 00:00am Click the link for full listing information:
 https://portfolio.websites.reapit.com.au/headland/sale/nsw/northern-beaches/beacon-hill/residential/house/6683377
DTSTAMP:20260424T210136
END:VEVENT
END:VCALENDAR